Workbook

Sheet final
A1: Constitutional County Courts: Activity by County Summary
A2: September 1, 2023 to August 31, 2024
A3: (Counties Listed in Alphabetical Order)
C5: CIVIL CASES | J5: CRIMINAL CASES | Q5: JUVENILE CASES | X5: TOTAL CASES
A6: County | B6: 2023 Population | C6: Active Pending 9/1/23 | D6: Reacti- vated | E6: Added | F6: Disposed | G6: Placed on Inactive Status | H6: Active Pending 8/31/24 | J6: Active Pending 9/1/23 | K6: Reacti- vated | L6: Added | M6: Disposed | N6: Placed on Inactive Status | O6: Active Pending 8/31/24 | Q6: Active Pending 9/1/23 | R6: Reacti- vated | S6: Added | T6: Disposed | U6: Placed on Inactive Status | V6: Active Pending 8/31/24 | X6: Active Pending 9/1/23 | Y6: Reacti- vated | Z6: Added | AA6: Disposed | AB6: Placed on Inactive Status | AC6: Active Pending 8/31/24
A10: Anderson | B10: 57736 | C10: 12 | D10: 0 | E10: 22 | F10: 12 | G10: 0 | H10: 21 | J10: 572 | K10: 214 | L10: 331 | M10: 389 | N10: 193 | O10: 483 | Q10: 0 | R10: 0 | S10: 0 | T10: 0 | U10: 0 | V10: 0 | X10: 584 | Y10: 214 | Z10: 353 | AA10: 401 | AB10: 193 | AC10: 504
A11: Andrews | B11: 18664 | C11: 23 | D11: 0 | E11: 15 | F11: 10 | G11: 0 | H11: 27 | J11: 182 | K11: 229 | L11: 230 | M11: 235 | N11: 231 | O11: 173 | Q11: 63 | R11: 0 | S11: 29 | T11: 29 | U11: 0 | V11: 63 | X11: 268 | Y11: 229 | Z11: 274 | AA11: 274 | AB11: 231 | AC11: 263
A12: Angelina | B12: 87319 | C12: 0 | D12: 0 | E12: 0 | F12: 0 | G12: 0 | H12: 0 | J12: 0 | K12: 0 | L12: 0 | M12: 0 | N12: 0 | O12: 0 | Q12: 0 | R12: 0 | S12: 0 | T12: 0 | U12: 0 | V12: 0 | X12: 0 | Y12: 0 | Z12: 0 | AA12: 0 | AB12: 0 | AC12: 0
A13: Aransas | B13: 25374 | C13: 0 | D13: 0 | E13: 0 | F13: 0 | G13: 0 | H13: 0 | J13: 0 | K13: 0 | L13: 0 | M13: 0 | N13: 0 | O13: 0 | Q13: 0 | R13: 0 | S13: 0 | T13: 0 | U13: 0 | V13: 0 | X13: 0 | Y13: 0 | Z13: 0 | AA13: 0 | AB13: 0 | AC13: 0
A14: Archer | B14: 9029 | C14: 25 | D14: 0 | E14: 18 | F14: 24 | G14: 0 | H14: 17 | J14: 208 | K14: 34 | L14: 135 | M14: 146 | N14: 48 | O14: 184 | Q14: 0 | R14: 0 | S14: 0 | T14: 0 | U14: 0 | V14: 0 | X14: 233 | Y14: 34 | Z14: 153 | AA14: 170 | AB14: 48 | AC14: 201
A15: Armstrong | B15: 1832 | C15: 9 | D15: 0 | E15: 0 | F15: 1 | G15: 0 | H15: 0 | J15: 32 | K15: 0 | L15: 4 | M15: 3 | N15: 0 | O15: 0 | Q15: 0 | R15: 0 | S15: 0 | T15: 0 | U15: 0 | V15: 0 | X15: 41 | Y15: 0 | Z15: 4 | AA15: 4 | AB15: 0 | AC15: 0
A16: Atascosa | B16: 51784 | C16: 54 | D16: 0 | E16: 3 | F16: 3 | G16: 0 | H16: 54 | J16: 143 | K16: 2 | L16: 0 | M16: 7 | N16: 0 | O16: 138 | Q16: 0 | R16: 0 | S16: 0 | T16: 0 | U16: 0 | V16: 0 | X16: 197 | Y16: 2 | Z16: 3 | AA16: 10 | AB16: 0 | AC16: 192
A17: Austin | B17: 31677 | C17: 0 | D17: 0 | E17: 0 | F17: 0 | G17: 0 | H17: 0 | J17: 0 | K17: 0 | L17: 0 | M17: 0 | N17: 0 | O17: 0 | Q17: 0 | R17: 0 | S17: 0 | T17: 0 | U17: 0 | V17: 0 | X17: 0 | Y17: 0 | Z17: 0 | AA17: 0 | AB17: 0 | AC17: 0
A18: Bailey | B18: 6672 | C18: 36 | D18: 0 | E18: 28 | F18: 28 | G18: 0 | H18: 36 | J18: 151 | K18: 1 | L18: 61 | M18: 104 | N18: 0 | O18: 109 | Q18: 38 | R18: 0 | S18: 13 | T18: 10 | U18: 0 | V18: 41 | X18: 225 | Y18: 1 | Z18: 102 | AA18: 142 | AB18: 0 | AC18: 186
A19: Bandera | B19: 22637 | C19: 212 | D19: 0 | E19: 34 | F19: 74 | G19: 0 | H19: 169 | J19: 178 | K19: 117 | L19: 267 | M19: 335 | N19: 110 | O19: 162 | Q19: 16 | R19: 0 | S19: 4 | T19: 4 | U19: 0 | V19: 16 | X19: 406 | Y19: 117 | Z19: 305 | AA19: 413 | AB19: 110 | AC19: 347
A20: Bastrop | B20: 110778 | C20: 0 | D20: 0 | E20: 0 | F20: 0 | G20: 0 | H20: 0 | J20: 0 | K20: 0 | L20: 0 | M20: 0 | N20: 0 | O20: 0 | Q20: 0 | R20: 0 | S20: 0 | T20: 0 | U20: 0 | V20: 0 | X20: 0 | Y20: 0 | Z20: 0 | AA20: 0 | AB20: 0 | AC20: 0
A21: Baylor | B21: 3463 | C21: 1 | D21: 0 | E21: 2 | F21: 2 | G21: 0 | H21: 1 | J21: 63 | K21: 0 | L21: 17 | M21: 12 | N21: 0 | O21: 68 | Q21: 0 | R21: 0 | S21: 0 | T21: 0 | U21: 0 | V21: 0 | X21: 64 | Y21: 0 | Z21: 19 | AA21: 14 | AB21: 0 | AC21: 69
... A263: Zavala | B263: 9312 | C263: 364 | D263: 0 | E263: 16 | F263: 1 | G263: 0 | H263: 379 | J263: 67 | K263: 0 | L263: 74 | M263: 55 | N263: 0 | O263: 88 | Q263: 0 | R263: 0 | S263: 0 | T263: 0 | U263: 0 | V263: 0 | X263: 431 | Y263: 0 | Z263: 90 | AA263: 56 | AB263: 0 | AC263: 467
A264: Total | C264: 23434 | D264: 54 | E264: 3692 | F264: 3136 | G264: 85 | H264: 21961 | J264: 74395 | K264: 5150 | L264: 31328 | M264: 36221 | N264: 5873 | O264: 65865 | Q264: 1588 | R264: 1 | S264: 616 | T264: 486 | U264: 11 | V264: 1614 | X264: 99417 | Y264: 5205 | Z264: 35636 | AA264: 39843 | AB264: 5969 | AC264: 89440

Sheet linked
A1: Constitutional County Courts: Activity by County Summary
A2: September 1, 2023 to August 31, 2024
A3: (Counties Listed in Alphabetical Order)
C5: CIVIL CASES | J5: CRIMINAL CASES | Q5: JUVENILE CASES | X5: TOTAL CASES
A6: County | B6: 2023 Population | C6: Active Pending 9/1/23 | D6: Reacti- vated | E6: Added | F6: Disposed | G6: Placed on Inactive Status | H6: Active Pending 8/31/24 | J6: =C6 -> Active Pending 9/1/23 | K6: Reacti- vated | L6: Added | M6: Disposed | N6: Placed on Inactive Status | O6: =H6 -> Active Pending 8/31/24 | Q6: =C6 -> Active Pending 9/1/23 | R6: Reacti- vated | S6: Added | T6: Disposed | U6: Placed on Inactive Status | V6: =H6 -> Active Pending 8/31/24 | X6: =C6 -> Active Pending 9/1/23 | Y6: Reacti- vated | Z6: Added | AA6: Disposed | AB6: Placed on Inactive Status | AC6: =H6 -> Active Pending 8/31/24
A10: =rough!A2 -> Anderson | B10: =rough!B2 -> 57736 | C10: =rough!C2 -> 12 | D10: =rough!H2 -> 0 | E10: =rough!D2 -> 22 | F10: =rough!E2 -> 12 | G10: =rough!F2 -> 0 | H10: =rough!G2 -> 21 | J10: =rough!O2 -> 572 | K10: =rough!T2 -> 214 | L10: =rough!P2 -> 331 | M10: =rough!Q2 -> 389 | N10: =rough!R2 -> 193 | O10: =rough!S2 -> 483 | Q10: =rough!I2 -> 0 | R10: =rough!N2 -> 0 | S10: =rough!J2 -> 0 | T10: =rough!K2 -> 0 | U10: =rough!L2 -> 0 | V10: =rough!M2 -> 0 | X10: =C10+J10+Q10 -> 584 | Y10: =D10+K10+R10 -> 214 | Z10: =E10+L10+S10 -> 353 | AA10: =F10+M10+T10 -> 401 | AB10: =G10+N10+U10 -> 193 | AC10: =H10+O10+V10 -> 504
A11: =rough!A3 -> Andrews | B11: =rough!B3 -> 18664 | C11: =rough!C3 -> 23 | D11: =rough!H3 -> 0 | E11: =rough!D3 -> 15 | F11: =rough!E3 -> 10 | G11: =rough!F3 -> 0 | H11: =rough!G3 -> 27 | J11: =rough!O3 -> 182 | K11: =rough!T3 -> 229 | L11: =rough!P3 -> 230 | M11: =rough!Q3 -> 235 | N11: =rough!R3 -> 231 | O11: =rough!S3 -> 173 | Q11: =rough!I3 -> 63 | R11: =rough!N3 -> 0 | S11: =rough!J3 -> 29 | T11: =rough!K3 -> 29 | U11: =rough!L3 -> 0 | V11: =rough!M3 -> 63 | X11: =C11+J11+Q11 -> 268 | Y11: =D11+K11+R11 -> 229 | Z11: =E11+L11+S11 -> 274 | AA11: =F11+M11+T11 -> 274 | AB11: =G11+N11+U11 -> 231 | AC11: =H11+O11+V11 -> 263
A12: =rough!A4 -> Angelina | B12: =rough!B4 -> 87319 | C12: =rough!C5 -> 0 | D12: =rough!H4 -> 0 | E12: =rough!D4 -> 0 | F12: =rough!E4 -> 0 | G12: =rough!F4 -> 0 | H12: =rough!G4 -> 0 | J12: =rough!O4 -> 0 | K12: =rough!T4 -> 0 | L12: =rough!P4 -> 0 | M12: =rough!Q4 -> 0 | N12: =rough!R4 -> 0 | O12: =rough!S4 -> 0 | Q12: =rough!I4 -> 0 | R12: =rough!N4 -> 0 | S12: =rough!J4 -> 0 | T12: =rough!K4 -> 0 | U12: =rough!L4 -> 0 | V12: =rough!M4 -> 0 | X12: =C12+J12+Q12 -> 0 | Y12: =D12+K12+R12 -> 0 | Z12: =E12+L12+S12 -> 0 | AA12: =F12+M12+T12 -> 0 | AB12: =G12+N12+U12 -> 0 | AC12: =H12+O12+V12 -> 0
A13: =rough!A5 -> Aransas | B13: =rough!B5 -> 25374 | C13: =rough!C5 -> 0 | D13: =rough!H5 -> 0 | E13: =rough!D5 -> 0 | F13: =rough!E5 -> 0 | G13: =rough!F5 -> 0 | H13: =rough!G5 -> 0 | J13: =rough!O5 -> 0 | K13: =rough!T5 -> 0 | L13: =rough!P5 -> 0 | M13: =rough!Q5 -> 0 | N13: =rough!R5 -> 0 | O13: =rough!S5 -> 0 | Q13: =rough!I5 -> 0 | R13: =rough!N5 -> 0 | S13: =rough!J5 -> 0 | T13: =rough!K5 -> 0 | U13: =rough!L5 -> 0 | V13: =rough!M5 -> 0 | X13: =C13+J13+Q13 -> 0 | Y13: =D13+K13+R13 -> 0 | Z13: =E13+L13+S13 -> 0 | AA13: =F13+M13+T13 -> 0 | AB13: =G13+N13+U13 -> 0 | AC13: =H13+O13+V13 -> 0
A14: =rough!A6 -> Archer | B14: =rough!B6 -> 9029 | C14: =rough!C6 -> 25 | D14: =rough!H6 -> 0 | E14: =rough!D6 -> 18 | F14: =rough!E6 -> 24 | G14: =rough!F6 -> 0 | H14: =rough!G6 -> 17 | J14: =rough!O6 -> 208 | K14: =rough!T6 -> 34 | L14: =rough!P6 -> 135 | M14: =rough!Q6 -> 146 | N14: =rough!R6 -> 48 | O14: =rough!S6 -> 184 | Q14: =rough!I6 -> 0 | R14: =rough!N6 -> 0 | S14: =rough!J6 -> 0 | T14: =rough!K6 -> 0 | U14: =rough!L6 -> 0 | V14: =rough!M6 -> 0 | X14: =C14+J14+Q14 -> 233 | Y14: =D14+K14+R14 -> 34 | Z14: =E14+L14+S14 -> 153 | AA14: =F14+M14+T14 -> 170 | AB14: =G14+N14+U14 -> 48 | AC14: =H14+O14+V14 -> 201
A15: =rough!A7 -> Armstrong | B15: =rough!B7 -> 1832 | C15: =rough!C7 -> 9 | D15: =rough!H7 -> 0 | E15: =rough!D7 -> 0 | F15: =rough!E7 -> 1 | G15: =rough!F7 -> 0 | H15: =rough!G7 -> 0 | J15: =rough!O7 -> 32 | K15: =rough!T7 -> 0 | L15: =rough!P7 -> 4 | M15: =rough!Q7 -> 3 | N15: =rough!R7 -> 0 | O15: =rough!S7 -> 0 | Q15: =rough!I7 -> 0 | R15: =rough!N7 -> 0 | S15: =rough!J7 -> 0 | T15: =rough!K7 -> 0 | U15: =rough!L7 -> 0 | V15: =rough!M7 -> 0 | X15: =C15+J15+Q15 -> 41 | Y15: =D15+K15+R15 -> 0 | Z15: =E15+L15+S15 -> 4 | AA15: =F15+M15+T15 -> 4 | AB15: =G15+N15+U15 -> 0 | AC15: =H15+O15+V15 -> 0
A16: =rough!A8 -> Atascosa | B16: =rough!B8 -> 51784 | C16: =rough!C8 -> 54 | D16: =rough!H8 -> 0 | E16: =rough!D8 -> 3 | F16: =rough!E8 -> 3 | G16: =rough!F8 -> 0 | H16: =rough!G8 -> 54 | J16: =rough!O8 -> 143 | K16: =rough!T8 -> 2 | L16: =rough!P8 -> 0 | M16: =rough!Q8 -> 7 | N16: =rough!R8 -> 0 | O16: =rough!S8 -> 138 | Q16: =rough!I8 -> 0 | R16: =rough!N8 -> 0 | S16: =rough!J8 -> 0 | T16: =rough!K8 -> 0 | U16: =rough!L8 -> 0 | V16: =rough!M8 -> 0 | X16: =C16+J16+Q16 -> 197 | Y16: =D16+K16+R16 -> 2 | Z16: =E16+L16+S16 -> 3 | AA16: =F16+M16+T16 -> 10 | AB16: =G16+N16+U16 -> 0 | AC16: =H16+O16+V16 -> 192
A17: =rough!A9 -> Austin | B17: =rough!B9 -> 31677 | C17: =rough!C9 -> 0 | D17: =rough!H9 -> 0 | E17: =rough!D9 -> 0 | F17: =rough!E9 -> 0 | G17: =rough!F9 -> 0 | H17: =rough!G9 -> 0 | J17: =rough!O9 -> 0 | K17: =rough!T9 -> 0 | L17: =rough!P9 -> 0 | M17: =rough!Q9 -> 0 | N17: =rough!R9 -> 0 | O17: =rough!S9 -> 0 | Q17: =rough!I9 -> 0 | R17: =rough!N9 -> 0 | S17: =rough!J9 -> 0 | T17: =rough!K9 -> 0 | U17: =rough!L9 -> 0 | V17: =rough!M9 -> 0 | X17: =C17+J17+Q17 -> 0 | Y17: =D17+K17+R17 -> 0 | Z17: =E17+L17+S17 -> 0 | AA17: =F17+M17+T17 -> 0 | AB17: =G17+N17+U17 -> 0 | AC17: =H17+O17+V17 -> 0
A18: =rough!A10 -> Bailey | B18: =rough!B10 -> 6672 | C18: =rough!C10 -> 36 | D18: =rough!H10 -> 0 | E18: =rough!D10 -> 28 | F18: =rough!E10 -> 28 | G18: =rough!F10 -> 0 | H18: =rough!G10 -> 36 | J18: =rough!O10 -> 151 | K18: =rough!T10 -> 1 | L18: =rough!P10 -> 61 | M18: =rough!Q10 -> 104 | N18: =rough!R10 -> 0 | O18: =rough!S10 -> 109 | Q18: =rough!I10 -> 38 | R18: =rough!N10 -> 0 | S18: =rough!J10 -> 13 | T18: =rough!K10 -> 10 | U18: =rough!L10 -> 0 | V18: =rough!M10 -> 41 | X18: =C18+J18+Q18 -> 225 | Y18: =D18+K18+R18 -> 1 | Z18: =E18+L18+S18 -> 102 | AA18: =F18+M18+T18 -> 142 | AB18: =G18+N18+U18 -> 0 | AC18: =H18+O18+V18 -> 186
A19: =rough!A11 -> Bandera | B19: =rough!B11 -> 22637 | C19: =rough!C11 -> 212 | D19: =rough!H11 -> 0 | E19: =rough!D11 -> 34 | F19: =rough!E11 -> 74 | G19: =rough!F11 -> 0 | H19: =rough!G11 -> 169 | J19: =rough!O11 -> 178 | K19: =rough!T11 -> 117 | L19: =rough!P11 -> 267 | M19: =rough!Q11 -> 335 | N19: =rough!R11 -> 110 | O19: =rough!S11 -> 162 | Q19: =rough!I11 -> 16 | R19: =rough!N11 -> 0 | S19: =rough!J11 -> 4 | T19: =rough!K11 -> 4 | U19: =rough!L11 -> 0 | V19: =rough!M11 -> 16 | X19: =C19+J19+Q19 -> 406 | Y19: =D19+K19+R19 -> 117 | Z19: =E19+L19+S19 -> 305 | AA19: =F19+M19+T19 -> 413 | AB19: =G19+N19+U19 -> 110 | AC19: =H19+O19+V19 -> 347
A20: =rough!A12 -> Bastrop | B20: =rough!B12 -> 110778 | C20: =rough!C12 -> 0 | D20: =rough!H12 -> 0 | E20: =rough!D12 -> 0 | F20: =rough!E12 -> 0 | G20: =rough!F12 -> 0 | H20: =rough!G12 -> 0 | J20: =rough!O12 -> 0 | K20: =rough!T12 -> 0 | L20: =rough!P12 -> 0 | M20: =rough!Q12 -> 0 | N20: =rough!R12 -> 0 | O20: =rough!S12 -> 0 | Q20: =rough!I12 -> 0 | R20: =rough!N12 -> 0 | S20: =rough!J12 -> 0 | T20: =rough!K12 -> 0 | U20: =rough!L12 -> 0 | V20: =rough!M12 -> 0 | X20: =C20+J20+Q20 -> 0 | Y20: =D20+K20+R20 -> 0 | Z20: =E20+L20+S20 -> 0 | AA20: =F20+M20+T20 -> 0 | AB20: =G20+N20+U20 -> 0 | AC20: =H20+O20+V20 -> 0
A21: =rough!A13 -> Baylor | B21: =rough!B13 -> 3463 | C21: =rough!C13 -> 1 | D21: =rough!H13 -> 0 | E21: =rough!D13 -> 2 | F21: =rough!E13 -> 2 | G21: =rough!F13 -> 0 | H21: =rough!G13 -> 1 | J21: =rough!O13 -> 63 | K21: =rough!T13 -> 0 | L21: =rough!P13 -> 17 | M21: =rough!Q13 -> 12 | N21: =rough!R13 -> 0 | O21: =rough!S13 -> 68 | Q21: =rough!I13 -> 0 | R21: =rough!N13 -> 0 | S21: =rough!J13 -> 0 | T21: =rough!K13 -> 0 | U21: =rough!L13 -> 0 | V21: =rough!M13 -> 0 | X21: =C21+J21+Q21 -> 64 | Y21: =D21+K21+R21 -> 0 | Z21: =E21+L21+S21 -> 19 | AA21: =F21+M21+T21 -> 14 | AB21: =G21+N21+U21 -> 0 | AC21: =H21+O21+V21 -> 69
A22: =rough!A14 -> Bee | B22: =rough!B14 -> 30850 | C22: =rough!C14 -> 552 | D22: =rough!H14 -> 0 | E22: =rough!D14 -> 35 | F22: =rough!E14 -> 0 | G22: =rough!F14 -> 0 | H22: =rough!G14 -> 587 | J22: =rough!O14 -> 2026 | K22: =rough!T14 -> 268 | L22: =rough!P14 -> 158 | M22: =rough!Q14 -> 565 | N22: =rough!R14 -> 250 | O22: =rough!S14 -> 1504 | Q22: =rough!I14 -> 0 | R22: =rough!N14 -> 0 | S22: =rough!J14 -> 0 | T22: =rough!K14 -> 0 | U22: =rough!L14 -> 0 | V22: =rough!M14 -> 0 | X22: =C22+J22+Q22 -> 2578 | Y22: =D22+K22+R22 -> 268 | Z22: =E22+L22+S22 -> 193 | AA22: =F22+M22+T22 -> 565 | AB22: =G22+N22+U22 -> 250 | AC22: =H22+O22+V22 -> 2091
A23: =rough!A15 -> Bell | B23: =rough!B15 -> 393193 | C23: =rough!C15 -> 0 | D23: =rough!H15 -> 0 | E23: =rough!D15 -> 0 | F23: =rough!E15 -> 0 | G23: =rough!F15 -> 0 | H23: =rough!G15 -> 0 | J23: =rough!O15 -> 0 | K23: =rough!T15 -> 0 | L23: =rough!P15 -> 0 | M23: =rough!Q15 -> 0 | N23: =rough!R15 -> 0 | O23: =rough!S15 -> 0 | Q23: =rough!I15 -> 0 | R23: =rough!N15 -> 0 | S23: =rough!J15 -> 0 | T23: =rough!K15 -> 0 | U23: =rough!L15 -> 0 | V23: =rough!M15 -> 0 | X23: =C23+J23+Q23 -> 0 | Y23: =D23+K23+R23 -> 0 | Z23: =E23+L23+S23 -> 0 | AA23: =F23+M23+T23 -> 0 | AB23: =G23+N23+U23 -> 0 | AC23: =H23+O23+V23 -> 0
A24: =rough!A16 -> Bexar | B24: =rough!B16 -> 2087679 | C24: =rough!C16 -> 0 | D24: =rough!H16 -> 0 | E24: =rough!D16 -> 0 | F24: =rough!E16 -> 0 | G24: =rough!F16 -> 0 | H24: =rough!G16 -> 0 | J24: =rough!O16 -> 0 | K24: =rough!T16 -> 0 | L24: =rough!P16 -> 0 | M24: =rough!Q16 -> 0 | N24: =rough!R16 -> 0 | O24: =rough!S16 -> 0 | Q24: =rough!I16 -> 0 | R24: =rough!N16 -> 0 | S24: =rough!J16 -> 0 | T24: =rough!K16 -> 0 | U24: =rough!L16 -> 0 | V24: =rough!M16 -> 0 | X24: =C24+J24+Q24 -> 0 | Y24: =D24+K24+R24 -> 0 | Z24: =E24+L24+S24 -> 0 | AA24: =F24+M24+T24 -> 0 | AB24: =G24+N24+U24 -> 0 | AC24: =H24+O24+V24 -> 0
... A263: =rough!A255 -> Zavala | B263: =rough!B255 -> 9312 | C263: =rough!C255 -> 364 | D263: =rough!H255 -> 0 | E263: =rough!D255 -> 16 | F263: =rough!E255 -> 1 | G263: =rough!F255 -> 0 | H263: =rough!G255 -> 379 | J263: =rough!O255 -> 67 | K263: =rough!T255 -> 0 | L263: =rough!P255 -> 74 | M263: =rough!Q255 -> 55 | N263: =rough!R255 -> 0 | O263: =rough!S255 -> 88 | Q263: =rough!I255 -> 0 | R263: =rough!N255 -> 0 | S263: =rough!J255 -> 0 | T263: =rough!K255 -> 0 | U263: =rough!L255 -> 0 | V263: =rough!M255 -> 0 | X263: =C263+J263+Q263 -> 431 | Y263: =D263+K263+R263 -> 0 | Z263: =E263+L263+S263 -> 90 | AA263: =F263+M263+T263 -> 56 | AB263: =G263+N263+U263 -> 0 | AC263: =H263+O263+V263 -> 467
A264: Total | C264: =SUM(C10:C263) -> 23434 | D264: =SUM(D10:D263) -> 54 | E264: =SUM(E10:E263) -> 3692 | F264: =SUM(F10:F263) -> 3136 | G264: =SUM(G10:G263) -> 85 | H264: =SUM(H10:H263) -> 21961 | J264: =SUM(J10:J263) -> 74395 | K264: =SUM(K10:K263) -> 5150 | L264: =SUM(L10:L263) -> 31328 | M264: =SUM(M10:M263) -> 36221 | N264: =SUM(N10:N263) -> 5873 | O264: =SUM(O10:O263) -> 65865 | Q264: =SUM(Q10:Q263) -> 1588 | R264: =SUM(R10:R263) -> 1 | S264: =SUM(S10:S263) -> 616 | T264: =SUM(T10:T263) -> 486 | U264: =SUM(U10:U263) -> 11 | V264: =SUM(V10:V263) -> 1614 | X264: =C264+J264+Q264 -> 99417 | Y264: =D264+K264+R264 -> 5205 | Z264: =E264+L264+S264 -> 35636 | AA264: =F264+M264+T264 -> 39843 | AB264: =G264+N264+U264 -> 5969 | AC264: =H264+O264+V264 -> 89440

Sheet rough
A1: County_Name | B1: County_Population_Number | C1: Civil_Pending_Start | D1: Civil_Added | E1: Civil_Disposed | F1: Civil_Inactive | G1: Civil_Pending_End | H1: Civil_Adjust | I1: Juvenile_Pending_Start | J1: Juvenile_Added | K1: Juvenile_Disposed | L1: Juvenile_Inactive | M1: Juvenile_Pending_End | N1: Juvenile_Adjust | O1: Criminal_Pending_Start | P1: Criminal_Added | Q1: Criminal_Disposed | R1: Criminal_Inactive | S1: Criminal_Pending_End | T1: Criminal_Adjust
A2: Anderson | B2: 57736 | C2: 12 | D2: 22 | E2: 12 | F2: 0 | G2: 21 | H2: 0 | I2: 0 | J2: 0 | K2: 0 | L2: 0 | M2: 0 | N2: 0 | O2: 572 | P2: 331 | Q2: 389 | R2: 193 | S2: 483 | T2: 214
A3: Andrews | B3: 18664 | C3: 23 | D3: 15 | E3: 10 | F3: 0 | G3: 27 | H3: 0 | I3: 63 | J3: 29 | K3: 29 | L3: 0 | M3: 63 | N3: 0 | O3: 182 | P3: 230 | Q3: 235 | R3: 231 | S3: 173 | T3: 229
A4: Angelina | B4: 87319 | C4: 0 | D4: 0 | E4: 0 | F4: 0 | G4: 0 | H4: 0 | I4: 0 | J4: 0 | K4: 0 | L4: 0 | M4: 0 | N4: 0 | O4: 0 | P4: 0 | Q4: 0 | R4: 0 | S4: 0 | T4: 0
A5: Aransas | B5: 25374 | C5: 0 | D5: 0 | E5: 0 | F5: 0 | G5: 0 | H5: 0 | I5: 0 | J5: 0 | K5: 0 | L5: 0 | M5: 0 | N5: 0 | O5: 0 | P5: 0 | Q5: 0 | R5: 0 | S5: 0 | T5: 0
A6: Archer | B6: 9029 | C6: 25 | D6: 18 | E6: 24 | F6: 0 | G6: 17 | H6: 0 | I6: 0 | J6: 0 | K6: 0 | L6: 0 | M6: 0 | N6: 0 | O6: 208 | P6: 135 | Q6: 146 | R6: 48 | S6: 184 | T6: 34
A7: Armstrong | B7: 1832 | C7: 9 | D7: 0 | E7: 1 | F7: 0 | G7: 0 | H7: 0 | I7: 0 | J7: 0 | K7: 0 | L7: 0 | M7: 0 | N7: 0 | O7: 32 | P7: 4 | Q7: 3 | R7: 0 | S7: 0 | T7: 0
A8: Atascosa | B8: 51784 | C8: 54 | D8: 3 | E8: 3 | F8: 0 | G8: 54 | H8: 0 | I8: 0 | J8: 0 | K8: 0 | L8: 0 | M8: 0 | N8: 0 | O8: 143 | P8: 0 | Q8: 7 | R8: 0 | S8: 138 | T8: 2
A9: Austin | B9: 31677 | C9: 0 | D9: 0 | E9: 0 | F9: 0 | G9: 0 | H9: 0 | I9: 0 | J9: 0 | K9: 0 | L9: 0 | M9: 0 | N9: 0 | O9: 0 | P9: 0 | Q9: 0 | R9: 0 | S9: 0 | T9: 0
A10: Bailey | B10: 6672 | C10: 36 | D10: 28 | E10: 28 | F10: 0 | G10: 36 | H10: 0 | I10: 38 | J10: 13 | K10: 10 | L10: 0 | M10: 41 | N10: 0 | O10: 151 | P10: 61 | Q10: 104 | R10: 0 | S10: 109 | T10: 1
A11: Bandera | B11: 22637 | C11: 212 | D11: 34 | E11: 74 | F11: 0 | G11: 169 | H11: 0 | I11: 16 | J11: 4 | K11: 4 | L11: 0 | M11: 16 | N11: 0 | O11: 178 | P11: 267 | Q11: 335 | R11: 110 | S11: 162 | T11: 117
A12: Bastrop | B12: 110778 | C12: 0 | D12: 0 | E12: 0 | F12: 0 | G12: 0 | H12: 0 | I12: 0 | J12: 0 | K12: 0 | L12: 0 | M12: 0 | N12: 0 | O12: 0 | P12: 0 | Q12: 0 | R12: 0 | S12: 0 | T12: 0
A13: Baylor | B13: 3463 | C13: 1 | D13: 2 | E13: 2 | F13: 0 | G13: 1 | H13: 0 | I13: 0 | J13: 0 | K13: 0 | L13: 0 | M13: 0 | N13: 0 | O13: 63 | P13: 17 | Q13: 12 | R13: 0 | S13: 68 | T13: 0
... A255: Zavala | B255: 9312 | C255: 364 | D255: 16 | E255: 1 | F255: 0 | G255: 379 | H255: 0 | I255: 0 | J255: 0 | K255: 0 | L255: 0 | M255: 0 | N255: 0 | O255: 67 | P255: 74 | Q255: 55 | R255: 0 | S255: 88 | T255: 0
B256: =SUM(B2:B255) -> 30503301 | C256: =SUM(C2:C255) -> 23434 | D256: =SUM(D2:D255) -> 3692 | E256: =SUM(E2:E255) -> 3136 | F256: =SUM(F2:F255) -> 85 | G256: =SUM(G2:G255) -> 21961 | H256: =SUM(H2:H255) -> 54 | I256: =SUM(I2:I255) -> 1588 | ... T256: =SUM(T2:T255) -> 5150
